BEGIN:VCALENDAR
VERSION:2.0
PRODID:-//TYPO3/NONSGML News system (news)//EN
BEGIN:VEVENT
UID:news-132091@sfb-redundancy-deficiency.uni-graz.at
DTSTAMP:20251203T112541Z
DTSTART:20260617T070000Z
DTEND:20260619T160000Z
SUMMARY:SFB Retreat 2026
END:VEVENT
END:VCALENDAR
